BEGIN:VCALENDAR
VERSION:2.0
PRODID:-//K.Z. &amp; R.V. 'Hollandia' - ECPv6.15.17.1//NONSGML v1.0//EN
CALSCALE:GREGORIAN
METHOD:PUBLISH
X-ORIGINAL-URL:https://kzrvhollandia.nl
X-WR-CALDESC:Evenementen voor K.Z. &amp; R.V. 'Hollandia'
REFRESH-INTERVAL;VALUE=DURATION:PT1H
X-Robots-Tag:noindex
X-PUBLISHED-TTL:PT1H
BEGIN:VTIMEZONE
TZID:Europe/Amsterdam
BEGIN:DAYLIGHT
TZOFFSETFROM:+0100
TZOFFSETTO:+0200
TZNAME:CEST
DTSTART:20230326T010000
END:DAYLIGHT
BEGIN:STANDARD
TZOFFSETFROM:+0200
TZOFFSETTO:+0100
TZNAME:CET
DTSTART:20231029T010000
END:STANDARD
BEGIN:DAYLIGHT
TZOFFSETFROM:+0100
TZOFFSETTO:+0200
TZNAME:CEST
DTSTART:20240331T010000
END:DAYLIGHT
BEGIN:STANDARD
TZOFFSETFROM:+0200
TZOFFSETTO:+0100
TZNAME:CET
DTSTART:20241027T010000
END:STANDARD
BEGIN:DAYLIGHT
TZOFFSETFROM:+0100
TZOFFSETTO:+0200
TZNAME:CEST
DTSTART:20250330T010000
END:DAYLIGHT
BEGIN:STANDARD
TZOFFSETFROM:+0200
TZOFFSETTO:+0100
TZNAME:CET
DTSTART:20251026T010000
END:STANDARD
BEGIN:DAYLIGHT
TZOFFSETFROM:+0100
TZOFFSETTO:+0200
TZNAME:CEST
DTSTART:20260329T010000
END:DAYLIGHT
BEGIN:STANDARD
TZOFFSETFROM:+0200
TZOFFSETTO:+0100
TZNAME:CET
DTSTART:20261025T010000
END:STANDARD
BEGIN:DAYLIGHT
TZOFFSETFROM:+0100
TZOFFSETTO:+0200
TZNAME:CEST
DTSTART:20270328T010000
END:DAYLIGHT
BEGIN:STANDARD
TZOFFSETFROM:+0200
TZOFFSETTO:+0100
TZNAME:CET
DTSTART:20271031T010000
END:STANDARD
END:VTIMEZONE
BEGIN:VEVENT
DTSTART;TZID=Europe/Amsterdam:20240525T110000
DTEND;TZID=Europe/Amsterdam:20240525T170000
DTSTAMP:20260424T183509
CREATED:20231211T101544Z
LAST-MODIFIED:20240327T221844Z
UID:110-1716634800-1716656400@kzrvhollandia.nl
SUMMARY:Medemblik Coastal Challenge Trophy 2024
DESCRIPTION:De Medemblik Coastal Challenge Trophy gevaren op het IJsselmeer\, met finish voor Kasteel Radboud. \nAfhankelijk van het aantal inschrijvingen wordt de definitieve indeling gemaakt. \nOngeveer 1 week voor de wedstrijden zal een gedetailleerde captains manual gepubliceerd worden op de website. De inhoud van het captains manual kan wijzigen na de loting. De bepalingen van de op de website gepubliceerde actuele versie zijn leidend. \nEventuele onervaren velden worden samengevoegd bij de reguliere velden bij minder dan 3 inschrijvingen. \nEen onervaren ploeg is een ploeg waarvan alle roei(st)ers maximaal aan twee Coastal wedstrijden hebben meegedaan. Wij gaan uit van de eerlijkheid van de deelnemers en zullen dit niet controleren \n  \n 
URL:https://kzrvhollandia.nl/evenement/roei-evenement-2/
LOCATION:Medemblik\, Vooroever 3\, Medemblik\, 1671SG
CATEGORIES:Coastal roeien
ATTACH;FMTTYPE=image/jpeg:https://kzrvhollandia.nl/wp-content/uploads/2023/12/roeien.jpg
ORGANIZER;CN="K.Z. & R.V. Hollandia":MAILTO:info@krzvhollandia.nl
END:VEVENT
BEGIN:VEVENT
DTSTART;TZID=Europe/Amsterdam:20240707T083000
DTEND;TZID=Europe/Amsterdam:20240707T170000
DTSTAMP:20260424T183509
CREATED:20240311T101618Z
LAST-MODIFIED:20240327T222607Z
UID:112-1720341000-1720371600@kzrvhollandia.nl
SUMMARY:SRV Hollandia Coastal Challenge 2024
DESCRIPTION:Op 7 juli organiseren de Scheveningsche Roei Vereeniging en Hollandia alweer de 4e editie van de SRV Hollandia Coastal Challenge. De wedstrijd maakt onderdeel uit van het KNRB Klassement Coastal Roeien. \n  \nCoastal Endurance wedstrijd op open zee!  \nAfhankelijk van weersomstandigheden\, wind en zee kan de wedstrijdbaan worden aangepast\, en/of het evenement worden gecanceld.\nDeelname aan de stuurlieden\, teammanager bijeenkomsten is verplicht. \nAfhankelijk van het aantal inschrijvingen wordt de definitieve indeling gemaakt.\nAfhankelijk van het aantal inschrijvingen kunnen de blokken worden aangepast. \nNummers\n– Endurance Coastal 4* vrouw en man (en mix)\n– Endurance Coastal skiff vrouw en man\n– Endurance Coastal dubbel 2 – Open
URL:https://kzrvhollandia.nl/evenement/roei-evenement-4/
LOCATION:Noordzee\, Hellingweg 135\, 2583 DZ Den Haag\, Den Haag\, 2583 DZ\, Nederland
CATEGORIES:Coastal roeien
ATTACH;FMTTYPE=image/jpeg:https://kzrvhollandia.nl/wp-content/uploads/2023/12/coastal-roeien.jpg
ORGANIZER;CN="K.Z. & R.V. Hollandia":MAILTO:info@krzvhollandia.nl
END:VEVENT
BEGIN:VEVENT
DTSTART;VALUE=DATE:20240930
DTEND;VALUE=DATE:20241001
DTSTAMP:20260424T183509
CREATED:20231211T101845Z
LAST-MODIFIED:20240327T222155Z
UID:116-1727654400-1727740799@kzrvhollandia.nl
SUMMARY:Coastal Roeien
DESCRIPTION:
URL:https://kzrvhollandia.nl/evenement/coastal-roeien/
LOCATION:Medemblik\, Vooroever 3\, Medemblik\, 1671SG
CATEGORIES:Coastal roeien
ATTACH;FMTTYPE=image/jpeg:https://kzrvhollandia.nl/wp-content/uploads/2023/12/coastal-roeien.jpg
ORGANIZER;CN="K.Z. & R.V. Hollandia":MAILTO:info@krzvhollandia.nl
END:VEVENT
BEGIN:VEVENT
DTSTART;TZID=Europe/Amsterdam:20260628T110000
DTEND;TZID=Europe/Amsterdam:20260628T170000
DTSTAMP:20260424T183509
CREATED:20260319T005634Z
LAST-MODIFIED:20260319T010213Z
UID:1782-1782644400-1782666000@kzrvhollandia.nl
SUMMARY:Medemblik Beach Sprint 2026
DESCRIPTION:
URL:https://kzrvhollandia.nl/evenement/medemblik-beach-sprint-2026/
LOCATION:Regattastrand Medemblik\, Vooroever 14A\, Medemblik\, 1671 SG
CATEGORIES:Coastal roeien
ATTACH;FMTTYPE=image/jpeg:https://kzrvhollandia.nl/wp-content/uploads/2026/03/Plaatje_BS-2025.jpg
ORGANIZER;CN="K.Z. & R.V. Hollandia":MAILTO:coastal@kzrvhollandia.nl
END:VEVENT
END:VCALENDAR