BEGIN:VCALENDAR
VERSION:2.0
PRODID:-//K.Z. &amp; R.V. 'Hollandia' - ECPv6.15.17.1//NONSGML v1.0//EN
CALSCALE:GREGORIAN
METHOD:PUBLISH
X-WR-CALNAME:K.Z. &amp; R.V. 'Hollandia'
X-ORIGINAL-URL:https://kzrvhollandia.nl
X-WR-CALDESC:Evenementen voor K.Z. &amp; R.V. 'Hollandia'
REFRESH-INTERVAL;VALUE=DURATION:PT1H
X-Robots-Tag:noindex
X-PUBLISHED-TTL:PT1H
BEGIN:VTIMEZONE
TZID:Europe/Amsterdam
BEGIN:DAYLIGHT
TZOFFSETFROM:+0100
TZOFFSETTO:+0200
TZNAME:CEST
DTSTART:20240331T010000
END:DAYLIGHT
BEGIN:STANDARD
TZOFFSETFROM:+0200
TZOFFSETTO:+0100
TZNAME:CET
DTSTART:20241027T010000
END:STANDARD
BEGIN:DAYLIGHT
TZOFFSETFROM:+0100
TZOFFSETTO:+0200
TZNAME:CEST
DTSTART:20250330T010000
END:DAYLIGHT
BEGIN:STANDARD
TZOFFSETFROM:+0200
TZOFFSETTO:+0100
TZNAME:CET
DTSTART:20251026T010000
END:STANDARD
BEGIN:DAYLIGHT
TZOFFSETFROM:+0100
TZOFFSETTO:+0200
TZNAME:CEST
DTSTART:20260329T010000
END:DAYLIGHT
BEGIN:STANDARD
TZOFFSETFROM:+0200
TZOFFSETTO:+0100
TZNAME:CET
DTSTART:20261025T010000
END:STANDARD
BEGIN:DAYLIGHT
TZOFFSETFROM:+0100
TZOFFSETTO:+0200
TZNAME:CEST
DTSTART:20270328T010000
END:DAYLIGHT
BEGIN:STANDARD
TZOFFSETFROM:+0200
TZOFFSETTO:+0100
TZNAME:CET
DTSTART:20271031T010000
END:STANDARD
END:VTIMEZONE
BEGIN:VEVENT
DTSTART;VALUE=DATE:20250418
DTEND;VALUE=DATE:20250421
DTSTAMP:20260422T032506
CREATED:20250204T150302Z
LAST-MODIFIED:20250415T151932Z
UID:1311-1744934400-1745193599@kzrvhollandia.nl
SUMMARY:Hollandia Roeiwedstrijden / NK Klein
DESCRIPTION:De Hollandia roeiwedstrijden | NK Klein 2025 zal op 18\, 19 en 20 april plaatsvinden op de Bosbaan. Hier zullen zowel jeugdroeiers\, studentenroeiverenigingen en bondsroeiers strijden om het felbegeerde Hollandiablik en in sommige gevallen zelfs de Nederlandse titel. Dit belooft een groots 3-daags roeispektakel te worden dat u niet wilt missen: de boord-aan-boordwedstrijd over 2000 m op een 6-ploegenbaan en het Nationaal kampioenschap voor kleine nummers.\nNaast al het roeigeweld op het water kunt u ook langs de kant genieten van heerlijke deuntjes\, culinaire hoogstandjes van onze foodtrucks en verfrissende drankjes geschonken door onze vrijwilligers. \nZien we u aan de waterkant van de Bosbaan om alle roeiers aan te moedigen? \n18 t/m 20 april 2025 | Bosbaan\, Amstelveen \nBekijk de wedstrijdpagina voor meer informatie. \nInstagram
URL:https://kzrvhollandia.nl/evenement/nk2025klein/
LOCATION:Amstelveen\, Bosbaan 6\, Amstelveen\, Bosbaan 6\, 1182 AG\, Nederland
CATEGORIES:Roeien
ATTACH;FMTTYPE=image/jpeg:https://kzrvhollandia.nl/wp-content/uploads/2025/02/Bosbaan2025.jpg
ORGANIZER;CN="K.Z. & R.V. Hollandia":MAILTO:info@krzvhollandia.nl
END:VEVENT
BEGIN:VEVENT
DTSTART;VALUE=DATE:20250524
DTEND;VALUE=DATE:20250525
DTSTAMP:20260422T032506
CREATED:20231211T101655Z
LAST-MODIFIED:20250204T150726Z
UID:114-1748044800-1748131199@kzrvhollandia.nl
SUMMARY:Coastal Challenge Trophy 2025
DESCRIPTION:De Medemblik Coastal Challenge Trophy gevaren op het IJsselmeer\, met finish voor Kasteel Radboud.
URL:https://kzrvhollandia.nl/evenement/coastal2025/
LOCATION:Medemblik\, Vooroever 3\, Medemblik\, 1671SG
CATEGORIES:Roeien
ATTACH;FMTTYPE=image/jpeg:https://kzrvhollandia.nl/wp-content/uploads/2023/12/CoastalBeach2025.jpeg
ORGANIZER;CN="K.Z. & R.V. Hollandia":MAILTO:info@krzvhollandia.nl
END:VEVENT
BEGIN:VEVENT
DTSTART;TZID=Europe/Amsterdam:20250525T000000
DTEND;TZID=Europe/Amsterdam:20250525T000000
DTSTAMP:20260422T032506
CREATED:20250204T144440Z
LAST-MODIFIED:20250520T201921Z
UID:1308-1748131200-1748131200@kzrvhollandia.nl
SUMMARY:Medemblik Beach Sprint 2025
DESCRIPTION:De Medemblik Beach Sprint gevaren op het IJsselmeer\, met finish voor Kasteel Radboud. \nVoor meer info: klik hier \n 
URL:https://kzrvhollandia.nl/evenement/beachsprint2025/
CATEGORIES:Roeien
ATTACH;FMTTYPE=image/jpeg:https://kzrvhollandia.nl/wp-content/uploads/2025/02/CoastalChallenge2025.jpeg
END:VEVENT
BEGIN:VEVENT
DTSTART;VALUE=DATE:20260417
DTEND;VALUE=DATE:20260420
DTSTAMP:20260422T032506
CREATED:20251230T171137Z
LAST-MODIFIED:20260322T202159Z
UID:1699-1776384000-1776643199@kzrvhollandia.nl
SUMMARY:Hollandia roeiwedstrijden / NK Klein 2026
DESCRIPTION:
URL:https://kzrvhollandia.nl/evenement/hollandia-roeiwedstrijden-nk-klein-2026/
LOCATION:Willem-Alexanderbaan\, Nely Gambonplein 1\, Zevenhuizen\, 2761 EH
CATEGORIES:Roeien
ATTACH;FMTTYPE=image/jpeg:https://kzrvhollandia.nl/wp-content/uploads/2025/12/Hollandia-79-scaled.jpg
ORGANIZER;CN="K.Z. & R.V. Hollandia":MAILTO:info@krzvhollandia.nl
END:VEVENT
END:VCALENDAR