BEGIN:VCALENDAR
VERSION:2.0
PRODID:-//K.Z. &amp; R.V. 'Hollandia' - ECPv6.15.17.1//NONSGML v1.0//EN
CALSCALE:GREGORIAN
METHOD:PUBLISH
X-WR-CALNAME:K.Z. &amp; R.V. 'Hollandia'
X-ORIGINAL-URL:https://kzrvhollandia.nl
X-WR-CALDESC:Evenementen voor K.Z. &amp; R.V. 'Hollandia'
REFRESH-INTERVAL;VALUE=DURATION:PT1H
X-Robots-Tag:noindex
X-PUBLISHED-TTL:PT1H
BEGIN:VTIMEZONE
TZID:Europe/Amsterdam
BEGIN:DAYLIGHT
TZOFFSETFROM:+0100
TZOFFSETTO:+0200
TZNAME:CEST
DTSTART:20230326T010000
END:DAYLIGHT
BEGIN:STANDARD
TZOFFSETFROM:+0200
TZOFFSETTO:+0100
TZNAME:CET
DTSTART:20231029T010000
END:STANDARD
BEGIN:DAYLIGHT
TZOFFSETFROM:+0100
TZOFFSETTO:+0200
TZNAME:CEST
DTSTART:20240331T010000
END:DAYLIGHT
BEGIN:STANDARD
TZOFFSETFROM:+0200
TZOFFSETTO:+0100
TZNAME:CET
DTSTART:20241027T010000
END:STANDARD
BEGIN:DAYLIGHT
TZOFFSETFROM:+0100
TZOFFSETTO:+0200
TZNAME:CEST
DTSTART:20250330T010000
END:DAYLIGHT
BEGIN:STANDARD
TZOFFSETFROM:+0200
TZOFFSETTO:+0100
TZNAME:CET
DTSTART:20251026T010000
END:STANDARD
END:VTIMEZONE
BEGIN:VEVENT
DTSTART;VALUE=DATE:20240907
DTEND;VALUE=DATE:20240909
DTSTAMP:20260420T071042
CREATED:20231211T100936Z
LAST-MODIFIED:20240406T215801Z
UID:99-1725667200-1725839999@kzrvhollandia.nl
SUMMARY:United 4 Medemblik najaar 2024
DESCRIPTION:Hollandia verzorgt één van de wedstrijdbanen tijdens de United 4 in Medemblik in het najaar van 2024 \nBen je benieuwd wat wij voor jouw zeilwedstrijd kunnen betekenen? Meer informatie… \nWil je meehelpen of tijdens een van de wedstrijden vrijwilliger zijn? Meer informatie…
URL:https://kzrvhollandia.nl/evenement/zeil-evenement-5/
LOCATION:Medemblik\, Vooroever 3\, Medemblik\, 1671SG
CATEGORIES:Zeilen
ATTACH;FMTTYPE=image/jpeg:https://kzrvhollandia.nl/wp-content/uploads/2023/12/Rib_Hollandia_3vrijwilligers_23-scaled-e1711917137819.jpg
END:VEVENT
BEGIN:VEVENT
DTSTART;VALUE=DATE:20240914
DTEND;VALUE=DATE:20240916
DTSTAMP:20260420T071042
CREATED:20231211T100958Z
LAST-MODIFIED:20240331T215012Z
UID:95-1726272000-1726444799@kzrvhollandia.nl
SUMMARY:Pinta Opti Trophy 2024
DESCRIPTION:Hollandia zorgt voor de wedstrijdbaan voor het Pinta Opti Trophy van Düsseldorfer Yachtclub e.V. in Medemblik \nBen je benieuwd wat wij voor jouw zeilwedstrijd kunnen betekenen? Meer informatie…
URL:https://kzrvhollandia.nl/evenement/zeil-evenement-6/
LOCATION:Medemblik\, Vooroever 3\, Medemblik\, 1671SG
CATEGORIES:Zeilen
ATTACH;FMTTYPE=image/jpeg:https://kzrvhollandia.nl/wp-content/uploads/2023/12/Bree_Rib_groene_boeien_22-scaled-e1711921790756.jpg
ORGANIZER;CN="K.Z. & R.V. Hollandia":MAILTO:info@krzvhollandia.nl
END:VEVENT
BEGIN:VEVENT
DTSTART;VALUE=DATE:20240920
DTEND;VALUE=DATE:20240923
DTSTAMP:20260420T071042
CREATED:20240325T101107Z
LAST-MODIFIED:20240517T102939Z
UID:93-1726790400-1727049599@kzrvhollandia.nl
SUMMARY:Dutch Open Championships 2024
DESCRIPTION:Hollandia verzorgt de wedstrijdbaan voor het ONK ILCA 7\,ILCA 6\, Finn\, 29er en Nacra 15 2024 en tevens een klasse evenement voor ILCA 4 en 49er en 49eFX in Medemblik. \n  \nBen je benieuwd wat wij voor jouw zeilwedstrijd kunnen betekenen? Meer informatie…
URL:https://kzrvhollandia.nl/evenement/zeil-evenement-7/
LOCATION:Medemblik\, Vooroever 3\, Medemblik\, 1671SG
CATEGORIES:Zeilen
ATTACH;FMTTYPE=image/jpeg:https://kzrvhollandia.nl/wp-content/uploads/2024/08/2024-ONK.jpeg
ORGANIZER;CN="K.Z. & R.V. Hollandia":MAILTO:info@krzvhollandia.nl
END:VEVENT
END:VCALENDAR