BEGIN:VCALENDAR
VERSION:2.0
PRODID:-//K.Z. &amp; R.V. 'Hollandia' - ECPv6.15.17.1//NONSGML v1.0//EN
CALSCALE:GREGORIAN
METHOD:PUBLISH
X-WR-CALNAME:K.Z. &amp; R.V. 'Hollandia'
X-ORIGINAL-URL:https://kzrvhollandia.nl
X-WR-CALDESC:Evenementen voor K.Z. &amp; R.V. 'Hollandia'
REFRESH-INTERVAL;VALUE=DURATION:PT1H
X-Robots-Tag:noindex
X-PUBLISHED-TTL:PT1H
BEGIN:VTIMEZONE
TZID:Europe/Amsterdam
BEGIN:DAYLIGHT
TZOFFSETFROM:+0100
TZOFFSETTO:+0200
TZNAME:CEST
DTSTART:20220327T010000
END:DAYLIGHT
BEGIN:STANDARD
TZOFFSETFROM:+0200
TZOFFSETTO:+0100
TZNAME:CET
DTSTART:20221030T010000
END:STANDARD
BEGIN:DAYLIGHT
TZOFFSETFROM:+0100
TZOFFSETTO:+0200
TZNAME:CEST
DTSTART:20230326T010000
END:DAYLIGHT
BEGIN:STANDARD
TZOFFSETFROM:+0200
TZOFFSETTO:+0100
TZNAME:CET
DTSTART:20231029T010000
END:STANDARD
BEGIN:DAYLIGHT
TZOFFSETFROM:+0100
TZOFFSETTO:+0200
TZNAME:CEST
DTSTART:20240331T010000
END:DAYLIGHT
BEGIN:STANDARD
TZOFFSETFROM:+0200
TZOFFSETTO:+0100
TZNAME:CET
DTSTART:20241027T010000
END:STANDARD
BEGIN:DAYLIGHT
TZOFFSETFROM:+0100
TZOFFSETTO:+0200
TZNAME:CEST
DTSTART:20250330T010000
END:DAYLIGHT
BEGIN:STANDARD
TZOFFSETFROM:+0200
TZOFFSETTO:+0100
TZNAME:CET
DTSTART:20251026T010000
END:STANDARD
BEGIN:DAYLIGHT
TZOFFSETFROM:+0100
TZOFFSETTO:+0200
TZNAME:CEST
DTSTART:20260329T010000
END:DAYLIGHT
BEGIN:STANDARD
TZOFFSETFROM:+0200
TZOFFSETTO:+0100
TZNAME:CET
DTSTART:20261025T010000
END:STANDARD
END:VTIMEZONE
BEGIN:VEVENT
DTSTART;VALUE=DATE:20230422
DTEND;VALUE=DATE:20230424
DTSTAMP:20260425T180517
CREATED:20240326T213212Z
LAST-MODIFIED:20240331T201459Z
UID:718-1682121600-1682294399@kzrvhollandia.nl
SUMMARY:United 4 Medemblik 2023
DESCRIPTION:Event information\n\n\n\nDate:\n22-04-2023 / 23-04-2023\n\n\nClasses:\nClasses – See notice of race\n\n\nLocation:\nMedemblik\n\n\n\n\nLees meer over dit evenement in het nieuwsbericht.
URL:https://kzrvhollandia.nl/evenement/united-4-medemblik-2023-2/
LOCATION:Medemblik\, Vooroever 3\, Medemblik\, 1671SG
CATEGORIES:Zeilen
ATTACH;FMTTYPE=image/jpeg:https://kzrvhollandia.nl/wp-content/uploads/2024/03/U4_Hollandia_ribs_23-e1711916139680.jpg
END:VEVENT
BEGIN:VEVENT
DTSTART;VALUE=DATE:20230512
DTEND;VALUE=DATE:20230515
DTSTAMP:20260425T180517
CREATED:20240326T212932Z
LAST-MODIFIED:20240331T223255Z
UID:716-1683849600-1684108799@kzrvhollandia.nl
SUMMARY:Springcup 2023 OK-SOLO 2023
DESCRIPTION:Event information\n\n\n\nDate:\n12-05-2023 / 14-05-2023\n\n\nClasses:\nOK-Dinghy\, Solo\n\n\nLocation:\nMedemblik\n\n\nContact:\n\n\n\n\n\n\nLees meer over dit evenement in het nieuwsbericht.
URL:https://kzrvhollandia.nl/evenement/springcup-2023-ok-solo-2023/
LOCATION:Medemblik\, Vooroever 3\, Medemblik\, 1671SG
CATEGORIES:Zeilen
ATTACH;FMTTYPE=image/jpeg:https://kzrvhollandia.nl/wp-content/uploads/2024/03/Rescue_Waterbuffel_23_Hollandia-scaled.jpg
END:VEVENT
BEGIN:VEVENT
DTSTART;VALUE=DATE:20230518
DTEND;VALUE=DATE:20230522
DTSTAMP:20260425T180517
CREATED:20240326T212726Z
LAST-MODIFIED:20240331T214531Z
UID:714-1684368000-1684713599@kzrvhollandia.nl
SUMMARY:Dutch Youth Regatta 2023
DESCRIPTION:Event information\n\n\n\nDate:\n18-05-2023 / 21-05-2023\n\n\nClasses:\nClasses – See notice of race\n\n\nLocation:\nWorkum\n\n\nContact:\n\n\n\n\n\n\nResults are not published by Hollandia. \nPlease go to http://www.dutchyouthregatta.org \nLees meer over dit evenement in het nieuwsbericht.
URL:https://kzrvhollandia.nl/evenement/dutch-youth-regatta-2023/
CATEGORIES:Zeilen
ATTACH;FMTTYPE=image/jpeg:https://kzrvhollandia.nl/wp-content/uploads/2024/03/DYR_Hollandia_Finish_23-e1711924065793.jpg
END:VEVENT
BEGIN:VEVENT
DTSTART;VALUE=DATE:20230528
DTEND;VALUE=DATE:20230605
DTSTAMP:20260425T180517
CREATED:20240326T212521Z
LAST-MODIFIED:20240331T202359Z
UID:711-1685232000-1685923199@kzrvhollandia.nl
SUMMARY:Allianz Regatta 2023
DESCRIPTION:Event information\n\n\n\nDate:\n28-05-2023 / 04-06-2023\n\n\nClasses:\nClasses – See notice of race\n\n\nLocation:\nAlmere\n\n\nContact:\n\n\n\n\n\n\n\nResults are not published by Hollandia. \nPlease go to https://allianzregatta.org
URL:https://kzrvhollandia.nl/evenement/allianz-regatta-2023/
CATEGORIES:Zeilen
ATTACH;FMTTYPE=image/jpeg:https://kzrvhollandia.nl/wp-content/uploads/2024/03/Allianz-Regatta-Rib-Hollandia-23.jpg
END:VEVENT
BEGIN:VEVENT
DTSTART;VALUE=DATE:20230809
DTEND;VALUE=DATE:20230821
DTSTAMP:20260425T180517
CREATED:20240326T211729Z
LAST-MODIFIED:20240502T182104Z
UID:706-1691539200-1692575999@kzrvhollandia.nl
SUMMARY:World Cup 2023
DESCRIPTION:Event information\n\n\n\nDate:\n09-08-2023 / 20-08-2023\n\n\nClasses:\nOlympic classes\n\n\nLocation:\nScheveningen\n\n\nContact:\n\n\n\n\n\n\nResults are not published by Hollandia. \n\nLees meer over dit event in het nieuwsbericht.
URL:https://kzrvhollandia.nl/evenement/worldcup-scheveningen-2023/
CATEGORIES:Zeilen
ATTACH;FMTTYPE=image/jpeg:https://kzrvhollandia.nl/wp-content/uploads/2024/03/Startschip-WK-Scheveningen-Hollandia.jpg
END:VEVENT
BEGIN:VEVENT
DTSTART;VALUE=DATE:20230826
DTEND;VALUE=DATE:20230828
DTSTAMP:20260425T180517
CREATED:20240326T211537Z
LAST-MODIFIED:20250204T150550Z
UID:704-1693008000-1693180799@kzrvhollandia.nl
SUMMARY:ONK OK-Dinghy\, Class Event Finn
DESCRIPTION:Event information\n\n\n\nDate:\n26-08-2023 / 27-08-2023\n\n\nClasses:\nFinn\, OK-Dinghy\n\n\nLocation:\nBiddinghuizen
URL:https://kzrvhollandia.nl/evenement/onk-ok-dinghy-class-event-finn/
CATEGORIES:Zeilen
ATTACH;FMTTYPE=image/jpeg:https://kzrvhollandia.nl/wp-content/uploads/2023/07/ONK-finn.jpg
END:VEVENT
BEGIN:VEVENT
DTSTART;VALUE=DATE:20230909
DTEND;VALUE=DATE:20230911
DTSTAMP:20260425T180517
CREATED:20240326T211215Z
LAST-MODIFIED:20240331T194901Z
UID:702-1694217600-1694390399@kzrvhollandia.nl
SUMMARY:Pinta Opti-Trophy 2023
DESCRIPTION:Event information\n\n\n\nDate:\n09-09-2023 / 10-09-2023\n\n\nClasses:\nOptimist\n\n\nLocation:\nMedemblik\n\n\n\n\n\nLees meer over dit event in het nieuwsbericht.
URL:https://kzrvhollandia.nl/evenement/pinta-opti-trophy-2023/
LOCATION:Medemblik\, Vooroever 3\, Medemblik\, 1671SG
CATEGORIES:Zeilen
ATTACH;FMTTYPE=image/jpeg:https://kzrvhollandia.nl/wp-content/uploads/2024/03/Ribs_Hollandia.jpg
END:VEVENT
BEGIN:VEVENT
DTSTART;VALUE=DATE:20230915
DTEND;VALUE=DATE:20230918
DTSTAMP:20260425T180517
CREATED:20240326T210859Z
LAST-MODIFIED:20240331T213344Z
UID:700-1694736000-1694995199@kzrvhollandia.nl
SUMMARY:ONK Finn\, D18\, F18 KE F16 2023
DESCRIPTION:Event information\n\n\n\nDate:\n15-09-2023 / 17-09-2023\n\n\nClasses:\nFinn\, D18\, F18\, F16\n\n\nLocation:\nMedemblik\n\n\nContact:\n\n\n\n\n\n\nLees meer over dit event in het nieuwsbericht.
URL:https://kzrvhollandia.nl/evenement/onk-finn-d18-f18-ke-f16-2023/
LOCATION:Medemblik\, Vooroever 3\, Medemblik\, 1671SG
CATEGORIES:Zeilen
ATTACH;FMTTYPE=image/jpeg:https://kzrvhollandia.nl/wp-content/uploads/2023/07/ONK-finn.jpg
END:VEVENT
BEGIN:VEVENT
DTSTART;VALUE=DATE:20230923
DTEND;VALUE=DATE:20230925
DTSTAMP:20260425T180517
CREATED:20240326T205531Z
LAST-MODIFIED:20240331T201058Z
UID:694-1695427200-1695599999@kzrvhollandia.nl
SUMMARY:United 4 Medemblik 2023 najaar
DESCRIPTION:Event information\n\n\n\nDate:\n23-09-2023 / 24-09-2023\n\n\nClasses:\nClasses – See notice of race\n\n\nLocation:\nMedemblik\n\n\n\n\nLees meer over dit event in het nieuwsbericht.
URL:https://kzrvhollandia.nl/evenement/united-4-medemblik-2023/
LOCATION:Medemblik\, Vooroever 3\, Medemblik\, 1671SG
CATEGORIES:Zeilen
ATTACH;FMTTYPE=image/jpeg:https://kzrvhollandia.nl/wp-content/uploads/2024/03/Waterbuffel_Hollandia_wedstrijd.jpg
ORGANIZER;CN="K.Z. & R.V. Hollandia":MAILTO:info@krzvhollandia.nl
END:VEVENT
BEGIN:VEVENT
DTSTART;VALUE=DATE:20230929
DTEND;VALUE=DATE:20231002
DTSTAMP:20260425T180517
CREATED:20240326T205248Z
LAST-MODIFIED:20240331T194004Z
UID:690-1695945600-1696204799@kzrvhollandia.nl
SUMMARY:ONK ILCA 2023
DESCRIPTION:Event information\n\n\n\nDate:\n29-09-2023 / 01-10-2023\n\n\nClasses:\nILCA 4\, ILCA 6\, ILCA 7\n\n\nLocation:\nMedemblik\n\n\n\n\n\nLees meer over dit evenement in het nieuwsbericht.
URL:https://kzrvhollandia.nl/evenement/onk-ilca-2023/
LOCATION:Medemblik\, Vooroever 3\, Medemblik\, 1671SG
CATEGORIES:Zeilen
ATTACH;FMTTYPE=image/jpeg:https://kzrvhollandia.nl/wp-content/uploads/2024/03/2023-NK-NEDILCA-Medemblik-02-0354.jpg
ORGANIZER;CN="K.Z. & R.V. Hollandia":MAILTO:info@krzvhollandia.nl
END:VEVENT
BEGIN:VEVENT
DTSTART;TZID=Europe/Amsterdam:20240406T100000
DTEND;TZID=Europe/Amsterdam:20240407T160000
DTSTAMP:20260425T180517
CREATED:20240313T221145Z
LAST-MODIFIED:20240331T200141Z
UID:344-1712397600-1712505600@kzrvhollandia.nl
SUMMARY:Opbouw weekend
DESCRIPTION:Poetsen\, GPS instructie\, varen\, tanken\, boenen\, stofzuigen\, repareren\, al van dit alles komt voorbij in het opbouw weekend. Iedere Hollandia – vrijwilliger voor de zeilwedstrijden is welkom. Inslingeren\, alle spullen opbouwen en gereed maken voor het nieuwe seizoen 2024. \nWil je meehelpen of tijdens een van de wedstrijden vrijwilliger zijn? Meer informatie…
URL:https://kzrvhollandia.nl/evenement/opbouw-weekend/
LOCATION:Medemblik\, Vooroever 3\, Medemblik\, 1671SG
CATEGORIES:Zeilen
ATTACH;FMTTYPE=image/jpeg:https://kzrvhollandia.nl/wp-content/uploads/2024/03/Hollandia_Waterbuffel-e1711915559174.jpg
ORGANIZER;CN="K.Z. & R.V. Hollandia":MAILTO:info@krzvhollandia.nl
END:VEVENT
BEGIN:VEVENT
DTSTART;VALUE=DATE:20240413
DTEND;VALUE=DATE:20240416
DTSTAMP:20260425T180517
CREATED:20230731T130138Z
LAST-MODIFIED:20240406T215833Z
UID:10-1712966400-1713225599@kzrvhollandia.nl
SUMMARY:United 4 Medemblik voorjaar 2024
DESCRIPTION:Since the first series in 1995 United 4 have become a major force in promoting youth sailing. Class Organisations have chosen these events as their trials for European and World Championships. Many past and current Olympic medalists and World Champions have started their sailing career in the United 4. The Organizing Authority is the Stichting United 4 Sailing\, in conjunction with KZ&RV Hollandia\, ZV Workum\, Royal Yacht Club België \, some other Yacht Clubs and the Dutch Class Organizations. There will be 4 Course Areas in Medemblik on April 13-4. \nBen je benieuwd wat wij voor jouw zeilwedstrijd kunnen betekenen? Meer informatie…
URL:https://kzrvhollandia.nl/evenement/united-4-medemblik-voorjaar-2024/
LOCATION:Medemblik\, Vooroever 3\, Medemblik\, 1671SG
CATEGORIES:Zeilen
ATTACH;FMTTYPE=image/jpeg:https://kzrvhollandia.nl/wp-content/uploads/2023/12/Allianz-Regatta-23.jpg
END:VEVENT
BEGIN:VEVENT
DTSTART;VALUE=DATE:20240503
DTEND;VALUE=DATE:20240506
DTSTAMP:20260425T180517
CREATED:20231211T093820Z
LAST-MODIFIED:20240331T214633Z
UID:96-1714694400-1714953599@kzrvhollandia.nl
SUMMARY:Spring cup 2024
DESCRIPTION:Classes\nContender\, OK-Dinghy\, Solo \nRegistration for this event is not handled by Hollandia. \nPlease go to https://manage2sail.com/nl-NL/event/df6e131a-db50-453a-894e-894579b203d0#!/ \nYou can also find other information there. \nBen je benieuwd wat wij voor jouw zeilwedstrijd kunnen betekenen? Meer informatie…
URL:https://kzrvhollandia.nl/evenement/zeil-evenement-2/
LOCATION:Medemblik\, Vooroever 3\, Medemblik\, 1671SG
CATEGORIES:Zeilen
ATTACH;FMTTYPE=image/jpeg:https://kzrvhollandia.nl/wp-content/uploads/2024/03/Hollandia_rib_contender_vrijwilliger-e1711923429798.jpg
ORGANIZER;CN="K.Z. & R.V. Hollandia":MAILTO:info@krzvhollandia.nl
END:VEVENT
BEGIN:VEVENT
DTSTART;VALUE=DATE:20240509
DTEND;VALUE=DATE:20240513
DTSTAMP:20260425T180517
CREATED:20231211T100035Z
LAST-MODIFIED:20240721T143810Z
UID:97-1715212800-1715558399@kzrvhollandia.nl
SUMMARY:Dutch Youth Regatta 2024
DESCRIPTION:Hollandia verzorgde in 2024 één van de wedstrijdbanen tijdens de DYR in Workum. Lees hier meer. \nBen je benieuwd wat wij voor jouw zeilwedstrijd kunnen betekenen? Meer informatie…\nWil je meehelpen of tijdens een van de wedstrijden vrijwilliger zijn? Meer informatie…
URL:https://kzrvhollandia.nl/evenement/zeil-evenement-3/
LOCATION:Workum\, Suderséleane\, Workum\, Nederland
CATEGORIES:Zeilen
ATTACH;FMTTYPE=image/jpeg:https://kzrvhollandia.nl/wp-content/uploads/2024/03/Ribs_Hollandia.jpg
ORGANIZER;CN="K.Z. & R.V. Hollandia":MAILTO:info@krzvhollandia.nl
END:VEVENT
BEGIN:VEVENT
DTSTART;VALUE=DATE:20240907
DTEND;VALUE=DATE:20240909
DTSTAMP:20260425T180517
CREATED:20231211T100936Z
LAST-MODIFIED:20240406T215801Z
UID:99-1725667200-1725839999@kzrvhollandia.nl
SUMMARY:United 4 Medemblik najaar 2024
DESCRIPTION:Hollandia verzorgt één van de wedstrijdbanen tijdens de United 4 in Medemblik in het najaar van 2024 \nBen je benieuwd wat wij voor jouw zeilwedstrijd kunnen betekenen? Meer informatie… \nWil je meehelpen of tijdens een van de wedstrijden vrijwilliger zijn? Meer informatie…
URL:https://kzrvhollandia.nl/evenement/zeil-evenement-5/
LOCATION:Medemblik\, Vooroever 3\, Medemblik\, 1671SG
CATEGORIES:Zeilen
ATTACH;FMTTYPE=image/jpeg:https://kzrvhollandia.nl/wp-content/uploads/2023/12/Rib_Hollandia_3vrijwilligers_23-scaled-e1711917137819.jpg
END:VEVENT
BEGIN:VEVENT
DTSTART;VALUE=DATE:20240914
DTEND;VALUE=DATE:20240916
DTSTAMP:20260425T180517
CREATED:20231211T100958Z
LAST-MODIFIED:20240331T215012Z
UID:95-1726272000-1726444799@kzrvhollandia.nl
SUMMARY:Pinta Opti Trophy 2024
DESCRIPTION:Hollandia zorgt voor de wedstrijdbaan voor het Pinta Opti Trophy van Düsseldorfer Yachtclub e.V. in Medemblik \nBen je benieuwd wat wij voor jouw zeilwedstrijd kunnen betekenen? Meer informatie…
URL:https://kzrvhollandia.nl/evenement/zeil-evenement-6/
LOCATION:Medemblik\, Vooroever 3\, Medemblik\, 1671SG
CATEGORIES:Zeilen
ATTACH;FMTTYPE=image/jpeg:https://kzrvhollandia.nl/wp-content/uploads/2023/12/Bree_Rib_groene_boeien_22-scaled-e1711921790756.jpg
ORGANIZER;CN="K.Z. & R.V. Hollandia":MAILTO:info@krzvhollandia.nl
END:VEVENT
BEGIN:VEVENT
DTSTART;VALUE=DATE:20240920
DTEND;VALUE=DATE:20240923
DTSTAMP:20260425T180517
CREATED:20240325T101107Z
LAST-MODIFIED:20240517T102939Z
UID:93-1726790400-1727049599@kzrvhollandia.nl
SUMMARY:Dutch Open Championships 2024
DESCRIPTION:Hollandia verzorgt de wedstrijdbaan voor het ONK ILCA 7\,ILCA 6\, Finn\, 29er en Nacra 15 2024 en tevens een klasse evenement voor ILCA 4 en 49er en 49eFX in Medemblik. \n  \nBen je benieuwd wat wij voor jouw zeilwedstrijd kunnen betekenen? Meer informatie…
URL:https://kzrvhollandia.nl/evenement/zeil-evenement-7/
LOCATION:Medemblik\, Vooroever 3\, Medemblik\, 1671SG
CATEGORIES:Zeilen
ATTACH;FMTTYPE=image/jpeg:https://kzrvhollandia.nl/wp-content/uploads/2024/08/2024-ONK.jpeg
ORGANIZER;CN="K.Z. & R.V. Hollandia":MAILTO:info@krzvhollandia.nl
END:VEVENT
BEGIN:VEVENT
DTSTART;TZID=Europe/Amsterdam:20250405T100000
DTEND;TZID=Europe/Amsterdam:20250406T160000
DTSTAMP:20260425T180517
CREATED:20250113T194151Z
LAST-MODIFIED:20250113T194151Z
UID:1296-1743847200-1743955200@kzrvhollandia.nl
SUMMARY:Opbouw weekend 2025
DESCRIPTION:Poetsen\, GPS instructie\, varen\, tanken\, boenen\, stofzuigen\, repareren\, al van dit alles komt voorbij in het opbouw weekend. Iedere Hollandia – vrijwilliger voor de zeilwedstrijden is welkom. Inslingeren\, alle spullen opbouwen en gereed maken voor het nieuwe seizoen 2025. Een vol seizoen met meerdere WK’s en jaarlijks terugkerende evenementen zoals de United4\, Spring Cup\,  Dutch Youth Regatta en ONK. \nWil je meehelpen of tijdens een van de wedstrijden vrijwilliger zijn? Meer informatie…
URL:https://kzrvhollandia.nl/evenement/opbouw-weekend-25/
LOCATION:Medemblik\, Vooroever 3\, Medemblik\, 1671SG
CATEGORIES:Zeilen
ATTACH;FMTTYPE=image/jpeg:https://kzrvhollandia.nl/wp-content/uploads/2024/03/Hollandia_Waterbuffel-e1711915559174.jpg
ORGANIZER;CN="K.Z. & R.V. Hollandia":MAILTO:info@krzvhollandia.nl
END:VEVENT
BEGIN:VEVENT
DTSTART;VALUE=DATE:20250426
DTEND;VALUE=DATE:20250428
DTSTAMP:20260425T180517
CREATED:20250113T193659Z
LAST-MODIFIED:20250721T210258Z
UID:1292-1745625600-1745798399@kzrvhollandia.nl
SUMMARY:DOCB selectie Medemblik 2025
DESCRIPTION:Hollandia verzorgt de wedstrijdbaan van het DOCB selectie evenement in het weekend van Koningsdag. Lees hier het nieuwsbericht. \nBen je benieuwd wat wij voor jouw zeilwedstrijd kunnen betekenen? Meer informatie… \nWil je meehelpen of tijdens een van de wedstrijden vrijwilliger zijn? Meer informatie…
URL:https://kzrvhollandia.nl/evenement/docb2025medemblijk/
LOCATION:Medemblik\, Vooroever 3\, Medemblik\, 1671SG
CATEGORIES:Zeilen
ATTACH;FMTTYPE=image/png:https://kzrvhollandia.nl/wp-content/uploads/2025/01/logo-DOCB.png
END:VEVENT
BEGIN:VEVENT
DTSTART;TZID=Europe/Amsterdam:20250503T000000
DTEND;TZID=Europe/Amsterdam:20250504T000000
DTSTAMP:20260425T180517
CREATED:20240906T202458Z
LAST-MODIFIED:20250113T212830Z
UID:1164-1746230400-1746316800@kzrvhollandia.nl
SUMMARY:United 4 Medemblik voorjaar 2025
DESCRIPTION:Hollandia verzorgt één van de wedstrijdbanen tijdens de United 4 in Medemblik in het voorjaar van 2025 \nBen je benieuwd wat wij voor jouw zeilwedstrijd kunnen betekenen? Meer informatie… \nWil je meehelpen of tijdens een van de wedstrijden vrijwilliger zijn? Meer informatie…
URL:https://kzrvhollandia.nl/evenement/united4medemblik2025/
LOCATION:Medemblik\, Vooroever 3\, Medemblik\, 1671SG
CATEGORIES:Zeilen
ATTACH;FMTTYPE=image/png:https://kzrvhollandia.nl/wp-content/uploads/2025/01/Hollandia_United-4-Medemblik_2025.png
END:VEVENT
BEGIN:VEVENT
DTSTART;VALUE=DATE:20250516
DTEND;VALUE=DATE:20250519
DTSTAMP:20260425T180517
CREATED:20240906T202714Z
LAST-MODIFIED:20250327T093544Z
UID:1167-1747353600-1747612799@kzrvhollandia.nl
SUMMARY:Spring cup 2025
DESCRIPTION:Classes\nContender\, OK-Dinghy\, Solo \nOm je aan te melden voor deze wedstrijd kan je hier terecht. \nBen je benieuwd wat wij voor jouw zeilwedstrijd kunnen betekenen? Meer informatie…
URL:https://kzrvhollandia.nl/evenement/springcup2025/
CATEGORIES:Zeilen
ATTACH;FMTTYPE=image/jpeg:https://kzrvhollandia.nl/wp-content/uploads/2024/03/Hollandia_rib_contender_vrijwilliger-e1711923429798.jpg
ORGANIZER;CN="K.Z. & R.V. Hollandia":MAILTO:info@krzvhollandia.nl
END:VEVENT
BEGIN:VEVENT
DTSTART;TZID=Europe/Amsterdam:20250524T000000
DTEND;TZID=Europe/Amsterdam:20250524T000000
DTSTAMP:20260425T180517
CREATED:20241231T103115Z
LAST-MODIFIED:20250113T212754Z
UID:1271-1748044800-1748044800@kzrvhollandia.nl
SUMMARY:United 4 Roompot mei 2025
DESCRIPTION:Hollandia verzorgt één van de wedstrijdbanen tijdens de United 4 in Roompot Marina Kamperland in het mei 2025 \nBen je benieuwd wat wij voor jouw zeilwedstrijd kunnen betekenen? Meer informatie… \nWil je meehelpen of tijdens een van de wedstrijden vrijwilliger zijn? Meer informatie…
URL:https://kzrvhollandia.nl/evenement/united4roompot25/
LOCATION:Roompot\, Sophiaboulevard 23a\, Kamperland\, 4493 PL
CATEGORIES:Zeilen
ATTACH;FMTTYPE=image/png:https://kzrvhollandia.nl/wp-content/uploads/2025/01/Hollandia_U4-Roompot_2025.png
END:VEVENT
BEGIN:VEVENT
DTSTART;VALUE=DATE:20250529
DTEND;VALUE=DATE:20250602
DTSTAMP:20260425T180517
CREATED:20240906T203115Z
LAST-MODIFIED:20250113T212809Z
UID:1170-1748476800-1748822399@kzrvhollandia.nl
SUMMARY:Dutch Youth Regatta 2025
DESCRIPTION:Hollandia verzorgt in 2025 twee van de wedstrijdbanen tijdens de DYR in Roompot Marina Kamperland. \nBen je benieuwd wat wij voor jouw zeilwedstrijd kunnen betekenen? Meer informatie…\nWil je meehelpen of tijdens een van de wedstrijden vrijwilliger zijn? Meer informatie…
URL:https://kzrvhollandia.nl/evenement/dyr2025/
LOCATION:Roompot\, Sophiaboulevard 23a\, Kamperland\, 4493 PL
CATEGORIES:Zeilen
ATTACH;FMTTYPE=image/jpeg:https://kzrvhollandia.nl/wp-content/uploads/2025/01/dyrzeeland2025.jpg
END:VEVENT
BEGIN:VEVENT
DTSTART;VALUE=DATE:20250614
DTEND;VALUE=DATE:20250621
DTSTAMP:20260425T180517
CREATED:20240906T203701Z
LAST-MODIFIED:20250113T190106Z
UID:1178-1749859200-1750463999@kzrvhollandia.nl
SUMMARY:2025 Finn World Masters
DESCRIPTION:Hollandia verzorgt in 2025 de wedstrijdbanen van de Finn World Masters 2025 \nBen je benieuwd wat wij voor jouw zeilwedstrijd kunnen betekenen? Meer informatie…\nWil je meehelpen of tijdens een van de wedstrijden vrijwilliger zijn? Meer informatie…
URL:https://kzrvhollandia.nl/evenement/2025finnworldmasters/
LOCATION:Medemblik\, Vooroever 3\, Medemblik\, 1671SG
CATEGORIES:Zeilen
ATTACH;FMTTYPE=image/png:https://kzrvhollandia.nl/wp-content/uploads/2025/01/logo-finn-world-masters-25.png
END:VEVENT
BEGIN:VEVENT
DTSTART;VALUE=DATE:20250705
DTEND;VALUE=DATE:20250712
DTSTAMP:20260425T180517
CREATED:20240906T204240Z
LAST-MODIFIED:20240925T093844Z
UID:1181-1751673600-1752278399@kzrvhollandia.nl
SUMMARY:F18 Worlds 2025
DESCRIPTION:Hollandia verzorgt in 2025 de wedstrijdbanen van de F18 Worlds 2025 \nBen je benieuwd wat wij voor jouw zeilwedstrijd kunnen betekenen? Meer informatie…\nWil je meehelpen of tijdens een van de wedstrijden vrijwilliger zijn? Meer informatie…
URL:https://kzrvhollandia.nl/evenement/f18worlds2025/
CATEGORIES:Zeilen
ATTACH;FMTTYPE=image/jpeg:https://kzrvhollandia.nl/wp-content/uploads/2024/09/F18_posters_en_02.jpg
END:VEVENT
BEGIN:VEVENT
DTSTART;VALUE=DATE:20250717
DTEND;VALUE=DATE:20250726
DTSTAMP:20260425T180517
CREATED:20240906T204538Z
LAST-MODIFIED:20250113T212620Z
UID:1184-1752710400-1753487999@kzrvhollandia.nl
SUMMARY:Topper Worlds 2025
DESCRIPTION:Hollandia verzorgt in 2025 de wedstrijdbanen van de Topper Worlds 2025 \nBen je benieuwd wat wij voor jouw zeilwedstrijd kunnen betekenen? Meer informatie…\nWil je meehelpen of tijdens een van de wedstrijden vrijwilliger zijn? Meer informatie…
URL:https://kzrvhollandia.nl/evenement/topperworlds2025/
CATEGORIES:Zeilen
ATTACH;FMTTYPE=image/png:https://kzrvhollandia.nl/wp-content/uploads/2025/01/Hollandia_Topper_2_2025.png
END:VEVENT
BEGIN:VEVENT
DTSTART;VALUE=DATE:20250727
DTEND;VALUE=DATE:20250801
DTSTAMP:20260425T180517
CREATED:20250202T214828Z
LAST-MODIFIED:20250506T183757Z
UID:1187-1753574400-1754006399@kzrvhollandia.nl
SUMMARY:F16 Worlds
DESCRIPTION:Hollandia verzorgt in 2025 de wedstrijdbanen van het WK voor de F16 klasse \nBen je benieuwd wat wij voor jouw zeilwedstrijd kunnen betekenen? Meer informatie…\nWil je meehelpen of tijdens een van de wedstrijden vrijwilliger zijn? Meer informatie…
URL:https://kzrvhollandia.nl/evenement/f16europeans/
LOCATION:Medemblik\, Vooroever 3\, Medemblik\, 1671SG
CATEGORIES:Zeilen
ATTACH;FMTTYPE=image/png:https://kzrvhollandia.nl/wp-content/uploads/2025/01/logo-F16.png
END:VEVENT
BEGIN:VEVENT
DTSTART;VALUE=DATE:20250906
DTEND;VALUE=DATE:20250908
DTSTAMP:20260425T180517
CREATED:20241231T103733Z
LAST-MODIFIED:20250113T212650Z
UID:1277-1757116800-1757289599@kzrvhollandia.nl
SUMMARY:United 4 Medemblik najaar 2025
DESCRIPTION:Hollandia verzorgt één van de wedstrijdbanen tijdens de United 4 in Medemblik in het najaar van 2025 \nBen je benieuwd wat wij voor jouw zeilwedstrijd kunnen betekenen? Meer informatie… \nWil je meehelpen of tijdens een van de wedstrijden vrijwilliger zijn? Meer informatie…
URL:https://kzrvhollandia.nl/evenement/u4medemblik35/
LOCATION:Medemblik\, Vooroever 3\, Medemblik\, 1671SG
CATEGORIES:Zeilen
ATTACH;FMTTYPE=image/png:https://kzrvhollandia.nl/wp-content/uploads/2025/01/Hollandia_United-4-Medemblik_2025.png
END:VEVENT
BEGIN:VEVENT
DTSTART;VALUE=DATE:20250913
DTEND;VALUE=DATE:20250915
DTSTAMP:20260425T180517
CREATED:20240906T205300Z
LAST-MODIFIED:20241231T104217Z
UID:1193-1757721600-1757894399@kzrvhollandia.nl
SUMMARY:Pinta Opti Trophy 2025
DESCRIPTION:Hollandia zorgt voor de wedstrijdbaan voor het Pinta Opti Trophy van Düsseldorfer Yachtclub e.V. in Medemblik \nBen je benieuwd wat wij voor jouw zeilwedstrijd kunnen betekenen? Meer informatie…
URL:https://kzrvhollandia.nl/evenement/pinta2025/
LOCATION:Medemblik\, Vooroever 3\, Medemblik\, 1671SG
CATEGORIES:Zeilen
ATTACH;FMTTYPE=image/jpeg:https://kzrvhollandia.nl/wp-content/uploads/2023/12/Bree_Rib_groene_boeien_22-scaled-e1711921790756.jpg
END:VEVENT
BEGIN:VEVENT
DTSTART;VALUE=DATE:20250919
DTEND;VALUE=DATE:20250922
DTSTAMP:20260425T180517
CREATED:20240906T205125Z
LAST-MODIFIED:20250404T200734Z
UID:1190-1758240000-1758499199@kzrvhollandia.nl
SUMMARY:Open Dutch Championships 2025
DESCRIPTION:Hollandia verzorgt de wedstrijdbaan voor het ONK ILCA 7\, ILCA 6\, Finn\, 29er en Nacra 15 2025. \n  \nBen je benieuwd wat wij voor jouw zeilwedstrijd kunnen betekenen? Meer informatie…
URL:https://kzrvhollandia.nl/evenement/onk2025/
LOCATION:Medemblik\, Vooroever 3\, Medemblik\, 1671SG
CATEGORIES:Zeilen
ATTACH;FMTTYPE=image/jpeg:https://kzrvhollandia.nl/wp-content/uploads/2024/08/2024-ONK.jpeg
END:VEVENT
END:VCALENDAR