BEGIN:VCALENDAR
VERSION:2.0
PRODID:-//K.Z. &amp; R.V. 'Hollandia' - ECPv6.15.17.1//NONSGML v1.0//EN
CALSCALE:GREGORIAN
METHOD:PUBLISH
X-WR-CALNAME:K.Z. &amp; R.V. 'Hollandia'
X-ORIGINAL-URL:https://kzrvhollandia.nl
X-WR-CALDESC:Evenementen voor K.Z. &amp; R.V. 'Hollandia'
REFRESH-INTERVAL;VALUE=DURATION:PT1H
X-Robots-Tag:noindex
X-PUBLISHED-TTL:PT1H
BEGIN:VTIMEZONE
TZID:Europe/Amsterdam
BEGIN:DAYLIGHT
TZOFFSETFROM:+0100
TZOFFSETTO:+0200
TZNAME:CEST
DTSTART:20220327T010000
END:DAYLIGHT
BEGIN:STANDARD
TZOFFSETFROM:+0200
TZOFFSETTO:+0100
TZNAME:CET
DTSTART:20221030T010000
END:STANDARD
BEGIN:DAYLIGHT
TZOFFSETFROM:+0100
TZOFFSETTO:+0200
TZNAME:CEST
DTSTART:20230326T010000
END:DAYLIGHT
BEGIN:STANDARD
TZOFFSETFROM:+0200
TZOFFSETTO:+0100
TZNAME:CET
DTSTART:20231029T010000
END:STANDARD
BEGIN:DAYLIGHT
TZOFFSETFROM:+0100
TZOFFSETTO:+0200
TZNAME:CEST
DTSTART:20240331T010000
END:DAYLIGHT
BEGIN:STANDARD
TZOFFSETFROM:+0200
TZOFFSETTO:+0100
TZNAME:CET
DTSTART:20241027T010000
END:STANDARD
END:VTIMEZONE
BEGIN:VEVENT
DTSTART;VALUE=DATE:20230528
DTEND;VALUE=DATE:20230605
DTSTAMP:20260423T015540
CREATED:20240326T212521Z
LAST-MODIFIED:20240331T202359Z
UID:711-1685232000-1685923199@kzrvhollandia.nl
SUMMARY:Allianz Regatta 2023
DESCRIPTION:Event information\n\n\n\nDate:\n28-05-2023 / 04-06-2023\n\n\nClasses:\nClasses – See notice of race\n\n\nLocation:\nAlmere\n\n\nContact:\n\n\n\n\n\n\n\nResults are not published by Hollandia. \nPlease go to https://allianzregatta.org
URL:https://kzrvhollandia.nl/evenement/allianz-regatta-2023/
CATEGORIES:Zeilen
ATTACH;FMTTYPE=image/jpeg:https://kzrvhollandia.nl/wp-content/uploads/2024/03/Allianz-Regatta-Rib-Hollandia-23.jpg
END:VEVENT
END:VCALENDAR