BEGIN:VCALENDAR
VERSION:2.0
PRODID:-//K.Z. &amp; R.V. 'Hollandia' - ECPv6.15.17.1//NONSGML v1.0//EN
CALSCALE:GREGORIAN
METHOD:PUBLISH
X-ORIGINAL-URL:https://kzrvhollandia.nl
X-WR-CALDESC:Evenementen voor K.Z. &amp; R.V. 'Hollandia'
REFRESH-INTERVAL;VALUE=DURATION:PT1H
X-Robots-Tag:noindex
X-PUBLISHED-TTL:PT1H
BEGIN:VTIMEZONE
TZID:Europe/Amsterdam
BEGIN:DAYLIGHT
TZOFFSETFROM:+0100
TZOFFSETTO:+0200
TZNAME:CEST
DTSTART:20230326T010000
END:DAYLIGHT
BEGIN:STANDARD
TZOFFSETFROM:+0200
TZOFFSETTO:+0100
TZNAME:CET
DTSTART:20231029T010000
END:STANDARD
BEGIN:DAYLIGHT
TZOFFSETFROM:+0100
TZOFFSETTO:+0200
TZNAME:CEST
DTSTART:20240331T010000
END:DAYLIGHT
BEGIN:STANDARD
TZOFFSETFROM:+0200
TZOFFSETTO:+0100
TZNAME:CET
DTSTART:20241027T010000
END:STANDARD
BEGIN:DAYLIGHT
TZOFFSETFROM:+0100
TZOFFSETTO:+0200
TZNAME:CEST
DTSTART:20250330T010000
END:DAYLIGHT
BEGIN:STANDARD
TZOFFSETFROM:+0200
TZOFFSETTO:+0100
TZNAME:CET
DTSTART:20251026T010000
END:STANDARD
END:VTIMEZONE
BEGIN:VEVENT
DTSTART;TZID=Europe/Amsterdam:20240406T100000
DTEND;TZID=Europe/Amsterdam:20240407T160000
DTSTAMP:20260420T085749
CREATED:20240313T221145Z
LAST-MODIFIED:20240331T200141Z
UID:344-1712397600-1712505600@kzrvhollandia.nl
SUMMARY:Opbouw weekend
DESCRIPTION:Poetsen\, GPS instructie\, varen\, tanken\, boenen\, stofzuigen\, repareren\, al van dit alles komt voorbij in het opbouw weekend. Iedere Hollandia – vrijwilliger voor de zeilwedstrijden is welkom. Inslingeren\, alle spullen opbouwen en gereed maken voor het nieuwe seizoen 2024. \nWil je meehelpen of tijdens een van de wedstrijden vrijwilliger zijn? Meer informatie…
URL:https://kzrvhollandia.nl/evenement/opbouw-weekend/
LOCATION:Medemblik\, Vooroever 3\, Medemblik\, 1671SG
CATEGORIES:Zeilen
ATTACH;FMTTYPE=image/jpeg:https://kzrvhollandia.nl/wp-content/uploads/2024/03/Hollandia_Waterbuffel-e1711915559174.jpg
ORGANIZER;CN="K.Z. & R.V. Hollandia":MAILTO:info@krzvhollandia.nl
END:VEVENT
BEGIN:VEVENT
DTSTART;VALUE=DATE:20240413
DTEND;VALUE=DATE:20240416
DTSTAMP:20260420T085749
CREATED:20230731T130138Z
LAST-MODIFIED:20240406T215833Z
UID:10-1712966400-1713225599@kzrvhollandia.nl
SUMMARY:United 4 Medemblik voorjaar 2024
DESCRIPTION:Since the first series in 1995 United 4 have become a major force in promoting youth sailing. Class Organisations have chosen these events as their trials for European and World Championships. Many past and current Olympic medalists and World Champions have started their sailing career in the United 4. The Organizing Authority is the Stichting United 4 Sailing\, in conjunction with KZ&RV Hollandia\, ZV Workum\, Royal Yacht Club België \, some other Yacht Clubs and the Dutch Class Organizations. There will be 4 Course Areas in Medemblik on April 13-4. \nBen je benieuwd wat wij voor jouw zeilwedstrijd kunnen betekenen? Meer informatie…
URL:https://kzrvhollandia.nl/evenement/united-4-medemblik-voorjaar-2024/
LOCATION:Medemblik\, Vooroever 3\, Medemblik\, 1671SG
CATEGORIES:Zeilen
ATTACH;FMTTYPE=image/jpeg:https://kzrvhollandia.nl/wp-content/uploads/2023/12/Allianz-Regatta-23.jpg
END:VEVENT
BEGIN:VEVENT
DTSTART;VALUE=DATE:20240419
DTEND;VALUE=DATE:20240422
DTSTAMP:20260420T085749
CREATED:20231211T101453Z
LAST-MODIFIED:20240327T210332Z
UID:107-1713484800-1713743999@kzrvhollandia.nl
SUMMARY:NK Klein | Njord Lustrumwedstrijden
DESCRIPTION:Nu weer een jaar voorbij is gegaan is het wachten eindelijk voorbij! De Hollandia roeiwedstrijden | NK-Klein Njord Lustrumwedstrijden zal op 19\, 20 en 21 april plaatsvinden op de Bosbaan. Hier zullen zowel jeugdroeiers\, studentenroeiverenigingen en bondsroeiers strijden om het felbegeerde Hollandiablik en in sommige gevallen zelfs de Nederlandse titel. Dit belooft een groots 3-daags roeispektakel te worden dat u niet wilt missen. \nNaast al het roeigeweld op het water kunt u ook langs de kant genieten van heerlijke deuntjes\, culinaire hoogstandjes van onze foodtrucks en verfrissende drankjes geschonken door onze vrijwilligers. \nZien we u aan de waterkant van de Bosbaan om alle roeiers aan te moedigen? \nBekijk de after movie van voorgaande edities om alvast in de sfeer te komen voor het weekend van 19\, 20 en 21 april 2024! \n19 t/m 21 april 2024 | Bosbaan\, Amstelveen \nInstagram
URL:https://kzrvhollandia.nl/evenement/roei-evenement-1/
LOCATION:Amstelveen\, Bosbaan 6\, Amstelveen\, Bosbaan 6\, 1182 AG\, Nederland
CATEGORIES:Roeien
ATTACH;FMTTYPE=image/jpeg:https://kzrvhollandia.nl/wp-content/uploads/2023/12/roeien.jpg
ORGANIZER;CN="K.Z. & R.V. Hollandia":MAILTO:info@krzvhollandia.nl
END:VEVENT
END:VCALENDAR